BEGIN:VCALENDAR
VERSION:2.0
PRODID:-//mro.name/uf2ics//NONSGML v1.0//EN
BEGIN:VEVENT
UID:2026-03-13T13:00:00-00:00
DTSTAMP:20260312T133805Z
DTSTART:20260313T130000Z
DURATION:PT4H
SUMMARY:⚗️ OpenLab
LOCATION:Bahnhofstr. 2-4 \, Traunstein
END:VEVENT
END:VCALENDAR
